BEGIN:VCALENDAR
VERSION:2.0
PRODID:-//FESARJ//Calendario//PT-BR
CALSCALE:GREGORIAN
METHOD:PUBLISH
BEGIN:VEVENT
UID:evento-4@fesarj.org.br
DTSTAMP:20260424T040843Z
DTSTART:20260427T060000Z
DTEND:20260427T080000Z
SUMMARY:Jogo Amistoso de UWR — Tigres vs. Leblonfins (a confirmar)
DESCRIPTION:Evento FESARJ
LOCATION:Parque Aquático Júlio César Delamare (Maracanã)
END:VEVENT
END:VCALENDAR
