BEGIN:VCALENDAR
VERSION:2.0
PRODID:-//FESARJ//Calendario//PT-BR
CALSCALE:GREGORIAN
METHOD:PUBLISH
BEGIN:VEVENT
UID:evento-3@fesarj.org.br
DTSTAMP:20260424T041351Z
DTSTART:20260606T080000Z
DTEND:20260606T100000Z
SUMMARY:Campeonato Carioca de Esportes Subaquáticos (a confirmar) - dia 2
DESCRIPTION:Competição envolvendo Underwater Rugby\, Finswimming\, Freediving
LOCATION:Parque Aquático Júlio César Delamare (Maracanã)
END:VEVENT
END:VCALENDAR
