BEGIN:VCALENDAR
VERSION:2.0
PRODID:-//FESARJ//Calendario//PT-BR
CALSCALE:GREGORIAN
METHOD:PUBLISH
BEGIN:VEVENT
UID:evento-1@fesarj.org.br
DTSTAMP:20260424T041351Z
DTSTART:20260207T060000Z
DTEND:20260207T080000Z
SUMMARY:Jogo Amistoso de UWR — Tigres vs. Leblonfins
DESCRIPTION:Primeiro jogo amistoso com Leblonfins e Tigres
LOCATION:Vasco
END:VEVENT
END:VCALENDAR
